BEGIN:VCALENDAR
VERSION:2.0
PRODID:-//Türk Sanat Enstitüsü İsviçre - ECPv6.15.15//NONSGML v1.0//EN
CALSCALE:GREGORIAN
METHOD:PUBLISH
X-ORIGINAL-URL:https://tsei.ch
X-WR-CALDESC:Türk Sanat Enstitüsü İsviçre için etkinlikler
REFRESH-INTERVAL;VALUE=DURATION:PT1H
X-Robots-Tag:noindex
X-PUBLISHED-TTL:PT1H
BEGIN:VTIMEZONE
TZID:Europe/Zurich
BEGIN:DAYLIGHT
TZOFFSETFROM:+0100
TZOFFSETTO:+0200
TZNAME:CEST
DTSTART:20220327T010000
END:DAYLIGHT
BEGIN:STANDARD
TZOFFSETFROM:+0200
TZOFFSETTO:+0100
TZNAME:CET
DTSTART:20221030T010000
END:STANDARD
BEGIN:DAYLIGHT
TZOFFSETFROM:+0100
TZOFFSETTO:+0200
TZNAME:CEST
DTSTART:20230326T010000
END:DAYLIGHT
BEGIN:STANDARD
TZOFFSETFROM:+0200
TZOFFSETTO:+0100
TZNAME:CET
DTSTART:20231029T010000
END:STANDARD
BEGIN:DAYLIGHT
TZOFFSETFROM:+0100
TZOFFSETTO:+0200
TZNAME:CEST
DTSTART:20240331T010000
END:DAYLIGHT
BEGIN:STANDARD
TZOFFSETFROM:+0200
TZOFFSETTO:+0100
TZNAME:CET
DTSTART:20241027T010000
END:STANDARD
BEGIN:DAYLIGHT
TZOFFSETFROM:+0100
TZOFFSETTO:+0200
TZNAME:CEST
DTSTART:20250330T010000
END:DAYLIGHT
BEGIN:STANDARD
TZOFFSETFROM:+0200
TZOFFSETTO:+0100
TZNAME:CET
DTSTART:20251026T010000
END:STANDARD
BEGIN:DAYLIGHT
TZOFFSETFROM:+0100
TZOFFSETTO:+0200
TZNAME:CEST
DTSTART:20260329T010000
END:DAYLIGHT
BEGIN:STANDARD
TZOFFSETFROM:+0200
TZOFFSETTO:+0100
TZNAME:CET
DTSTART:20261025T010000
END:STANDARD
BEGIN:DAYLIGHT
TZOFFSETFROM:+0100
TZOFFSETTO:+0200
TZNAME:CEST
DTSTART:20270328T010000
END:DAYLIGHT
BEGIN:STANDARD
TZOFFSETFROM:+0200
TZOFFSETTO:+0100
TZNAME:CET
DTSTART:20271031T010000
END:STANDARD
END:VTIMEZONE
BEGIN:VEVENT
DTSTART;TZID=Europe/Zurich:20260411T183000
DTEND;TZID=Europe/Zurich:20260411T233000
DTSTAMP:20260424T121237
CREATED:20260223T131620Z
LAST-MODIFIED:20260223T132132Z
UID:12076-1775932200-1775950200@tsei.ch
SUMMARY:Neşe i Muhabbet Fasıl ve Eglence Akşamı
DESCRIPTION:Restaurant Hecht und Saal \nBahnhofstrasse 26 \n8600 Dübendorf \niletisim: 076 571 1998
URL:https://tsei.ch/event/nese-i-muhabbet-fasil-ve-eglence-aksami/
CATEGORIES:Etkinlikler
END:VEVENT
BEGIN:VEVENT
DTSTART;TZID=Europe/Zurich:20241208T150000
DTEND;TZID=Europe/Zurich:20241208T190000
DTSTAMP:20260424T121237
CREATED:20241018T140004Z
LAST-MODIFIED:20241018T140203Z
UID:11878-1733670000-1733684400@tsei.ch
SUMMARY:08.12.2024 - Her Telden Nağmeler
DESCRIPTION:Konser Bileti
URL:https://tsei.ch/event/08-12-2024-her-telden-nagmeler/
LOCATION:Hotel Kronenhof\, Wehntalerstr. 551\, Zürich\, 8046\, Schweiz
CATEGORIES:Etkinlikler
ORGANIZER;CN="TSEI":MAILTO:info@tsei.ch
END:VEVENT
BEGIN:VEVENT
DTSTART;TZID=Europe/Zurich:20240526T150000
DTEND;TZID=Europe/Zurich:20240526T190000
DTSTAMP:20260424T121237
CREATED:20240129T131812Z
LAST-MODIFIED:20240129T131813Z
UID:11484-1716735600-1716750000@tsei.ch
SUMMARY:26.05.2024 - SEVDALI ŞARKILAR KONSERİ
DESCRIPTION:
URL:https://tsei.ch/event/26-05-2024-sevdali-sarkilar-konseri/
LOCATION:Hotel Kronenhof\, Wehntalerstr. 551\, Zürich\, 8046\, Schweiz
CATEGORIES:Etkinlikler
ORGANIZER;CN="TSEI":MAILTO:info@tsei.ch
END:VEVENT
BEGIN:VEVENT
DTSTART;TZID=Europe/Zurich:20231203T150000
DTEND;TZID=Europe/Zurich:20231203T200000
DTSTAMP:20260424T121237
CREATED:20231101T081830Z
LAST-MODIFIED:20231123T101553Z
UID:8060-1701615600-1701633600@tsei.ch
SUMMARY:Türkçe Sözlü Hafif Batı Müziği
DESCRIPTION:
URL:https://tsei.ch/event/tuerkce-soezlue-hafif-bati-muezigi/
LOCATION:SALMEN Konzertsaal\, Uitikonerstrasse 17\, Schlieren\, 8952\, Switzerland
CATEGORIES:Etkinlikler
ORGANIZER;CN="TSEI":MAILTO:info@tsei.ch
END:VEVENT
BEGIN:VEVENT
DTSTART;TZID=Europe/Zurich:20231129T190000
DTEND;TZID=Europe/Zurich:20231129T220000
DTSTAMP:20260424T121237
CREATED:20231113T090153Z
LAST-MODIFIED:20231113T090153Z
UID:8234-1701284400-1701295200@tsei.ch
SUMMARY:TSE Calismamiz
DESCRIPTION:Çalışmalarımıza Hotel Kronenhof da devam edizoruz.
URL:https://tsei.ch/event/tse-calismamiz-3/
LOCATION:Hotel Kronenhof\, Wehntalerstr. 551\, Zürich\, 8046\, Schweiz
CATEGORIES:Etkinlikler
ORGANIZER;CN="TSEI":MAILTO:info@tsei.ch
END:VEVENT
BEGIN:VEVENT
DTSTART;TZID=Europe/Zurich:20231122T190000
DTEND;TZID=Europe/Zurich:20231122T220000
DTSTAMP:20260424T121237
CREATED:20231113T090125Z
LAST-MODIFIED:20231113T090125Z
UID:8232-1700679600-1700690400@tsei.ch
SUMMARY:TSE Calismamiz
DESCRIPTION:Çalışmalarımıza Hotel Kronenhof da devam edizoruz.
URL:https://tsei.ch/event/tse-calismamiz-2/
LOCATION:Hotel Kronenhof\, Wehntalerstr. 551\, Zürich\, 8046\, Schweiz
CATEGORIES:Etkinlikler
ORGANIZER;CN="TSEI":MAILTO:info@tsei.ch
END:VEVENT
BEGIN:VEVENT
DTSTART;TZID=Europe/Zurich:20231115T190000
DTEND;TZID=Europe/Zurich:20231115T220000
DTSTAMP:20260424T121237
CREATED:20231113T085821Z
LAST-MODIFIED:20231113T085936Z
UID:8230-1700074800-1700085600@tsei.ch
SUMMARY:TSE Calismamiz
DESCRIPTION:Çalışmalarımıza Hotel Kronenhof da devam edizoruz.
URL:https://tsei.ch/event/tse-calismamiz/
LOCATION:Hotel Kronenhof\, Wehntalerstr. 551\, Zürich\, 8046\, Schweiz
CATEGORIES:Etkinlikler
ORGANIZER;CN="TSEI":MAILTO:info@tsei.ch
END:VEVENT
END:VCALENDAR